BEGIN:VCALENDAR
VERSION:2.0
PRODID:-//Indiana District LCMS - ECPv5.8.0//NONSGML v1.0//EN
CALSCALE:GREGORIAN
METHOD:PUBLISH
X-WR-CALNAME:Indiana District LCMS
X-ORIGINAL-URL:https://in.lcms.org
X-WR-CALDESC:Events for Indiana District LCMS
BEGIN:VTIMEZONE
TZID:America/Indiana/Indianapolis
BEGIN:DAYLIGHT
TZOFFSETFROM:-0500
TZOFFSETTO:-0400
TZNAME:EDT
DTSTART:20210314T070000
END:DAYLIGHT
BEGIN:STANDARD
TZOFFSETFROM:-0400
TZOFFSETTO:-0500
TZNAME:EST
DTSTART:20211107T060000
END:STANDARD
END:VTIMEZONE
BEGIN:VEVENT
DTSTART;TZID=America/Indiana/Indianapolis:20210208T080000
DTEND;TZID=America/Indiana/Indianapolis:20210212T170000
DTSTAMP:20210708T004936
CREATED:20200923T115809Z
LAST-MODIFIED:20210120T202842Z
UID:27698-1612771200-1613149200@in.lcms.org
SUMMARY:Council of Presidents
DESCRIPTION:
URL:https://in.lcms.org/event/council-of-presidents-12/
CATEGORIES:General,President's Schedule
ORGANIZER;CN="Jan%20Koenig":MAILTO:jan.koenig@in.lcms.org
END:VEVENT
END:VCALENDAR