BEGIN:VCALENDAR
VERSION:2.0
PRODID:-//Indiana District LCMS - ECPv5.6.0//NONSGML v1.0//EN
CALSCALE:GREGORIAN
METHOD:PUBLISH
X-WR-CALNAME:Indiana District LCMS
X-ORIGINAL-URL:https://in.lcms.org
X-WR-CALDESC:Events for Indiana District LCMS
BEGIN:VTIMEZONE
TZID:America/Indiana/Indianapolis
BEGIN:DAYLIGHT
TZOFFSETFROM:-0500
TZOFFSETTO:-0400
TZNAME:EDT
DTSTART:20210314T070000
END:DAYLIGHT
BEGIN:STANDARD
TZOFFSETFROM:-0400
TZOFFSETTO:-0500
TZNAME:EST
DTSTART:20211107T060000
END:STANDARD
END:VTIMEZONE
BEGIN:VEVENT
DTSTART;TZID=America/Indiana/Indianapolis:20210423T080000
DTEND;TZID=America/Indiana/Indianapolis:20210429T170000
DTSTAMP:20210513T074554
CREATED:20200923T122349Z
LAST-MODIFIED:20210120T202756Z
UID:27706-1619164800-1619715600@in.lcms.org
SUMMARY:Council of Presidents and Placements
DESCRIPTION:Fort Wayne and then St. Louis
URL:https://in.lcms.org/event/council-of-presidents-and-placements/
CATEGORIES:District Events,General,President's Schedule
ORGANIZER;CN="Jan%20Koenig":MAILTO:jan.koenig@in.lcms.org
END:VEVENT
BEGIN:VEVENT
DTSTART;TZID=America/Indiana/Indianapolis:20210427T190000
DTEND;TZID=America/Indiana/Indianapolis:20210427T210000
DTSTAMP:20210513T074554
CREATED:20210315T182743Z
LAST-MODIFIED:20210315T182743Z
UID:29400-1619550000-1619557200@in.lcms.org
SUMMARY:Call Service - CTS Fort Wayne
DESCRIPTION:
URL:https://in.lcms.org/event/call-service-cts-fort-wayne/
LOCATION:Concordia Theological Seminary\, 6600 N. Clinton Street\, Fort Wayne\, IN\, 46825\, United States
CATEGORIES:District Events,General,President's Schedule
ORGANIZER;CN="Jan%20Koenig":MAILTO:jan.koenig@in.lcms.org
END:VEVENT
END:VCALENDAR