BEGIN:VCALENDAR
VERSION:2.0
PRODID:-//Indiana District LCMS - ECPv5.6.0//NONSGML v1.0//EN
CALSCALE:GREGORIAN
METHOD:PUBLISH
X-WR-CALNAME:Indiana District LCMS
X-ORIGINAL-URL:https://in.lcms.org
X-WR-CALDESC:Events for Indiana District LCMS
BEGIN:VTIMEZONE
TZID:America/Indiana/Indianapolis
BEGIN:DAYLIGHT
TZOFFSETFROM:-0500
TZOFFSETTO:-0400
TZNAME:EDT
DTSTART:20210314T070000
END:DAYLIGHT
BEGIN:STANDARD
TZOFFSETFROM:-0400
TZOFFSETTO:-0500
TZNAME:EST
DTSTART:20211107T060000
END:STANDARD
END:VTIMEZONE
BEGIN:VEVENT
DTSTART;TZID=America/Indiana/Indianapolis:20210418T150000
DTEND;TZID=America/Indiana/Indianapolis:20210418T183000
DTSTAMP:20210505T180822
CREATED:20200923T122238Z
LAST-MODIFIED:20200928T154112Z
UID:27704-1618758000-1618770600@in.lcms.org
SUMMARY:St. Paul Bremen Mission Service and 175th Anniversary
DESCRIPTION:
URL:https://in.lcms.org/event/st-paul-bremen-mission-service-and-175th-anniversary/
LOCATION:St Paul Lutheran – Bremen\, 605 S Center Street\, Bremen\, IN\, 46506\, United States
CATEGORIES:District Events,General,President's Schedule
ORGANIZER;CN="Jan%20Koenig":MAILTO:jan.koenig@in.lcms.org
END:VEVENT
END:VCALENDAR